BEGIN:VCALENDAR
VERSION:2.0
PRODID:-//The DiMenna Center for Classical Music - ECPv6.15.20//NONSGML v1.0//EN
CALSCALE:GREGORIAN
METHOD:PUBLISH
X-WR-CALNAME:The DiMenna Center for Classical Music
X-ORIGINAL-URL:https://dimennacenter.org
X-WR-CALDESC:Events for The DiMenna Center for Classical Music
REFRESH-INTERVAL;VALUE=DURATION:PT1H
X-Robots-Tag:noindex
X-PUBLISHED-TTL:PT1H
BEGIN:VTIMEZONE
TZID:America/New_York
BEGIN:DAYLIGHT
TZOFFSETFROM:-0500
TZOFFSETTO:-0400
TZNAME:EDT
DTSTART:20250309T070000
END:DAYLIGHT
BEGIN:STANDARD
TZOFFSETFROM:-0400
TZOFFSETTO:-0500
TZNAME:EST
DTSTART:20251102T060000
END:STANDARD
BEGIN:DAYLIGHT
TZOFFSETFROM:-0500
TZOFFSETTO:-0400
TZNAME:EDT
DTSTART:20260308T070000
END:DAYLIGHT
BEGIN:STANDARD
TZOFFSETFROM:-0400
TZOFFSETTO:-0500
TZNAME:EST
DTSTART:20261101T060000
END:STANDARD
BEGIN:DAYLIGHT
TZOFFSETFROM:-0500
TZOFFSETTO:-0400
TZNAME:EDT
DTSTART:20270314T070000
END:DAYLIGHT
BEGIN:STANDARD
TZOFFSETFROM:-0400
TZOFFSETTO:-0500
TZNAME:EST
DTSTART:20271107T060000
END:STANDARD
END:VTIMEZONE
BEGIN:VEVENT
DTSTART;TZID=America/New_York:20260610T193000
DTEND;TZID=America/New_York:20260610T193000
DTSTAMP:20260419T122337
CREATED:20260406T161129Z
LAST-MODIFIED:20260406T174856Z
UID:22861-1781119800-1781119800@dimennacenter.org
SUMMARY:Cherylyn Lavagnino Dance Presents: The Winter’s Tale
DESCRIPTION:A striking theater dance work charting a path from betrayal to reconciliation\, performed with live music. \nBased on one of William Shakespeare’s final plays\, ‘The Winter’s Tale’ is a work of theater dance created by choreographer Cherylyn Lavagnino in collaboration with composer Martin Bresnick. The piece explores themes of loyalty\, jealousy\, forgiveness\, and renewal\, blending expressive gesture with Lavagnino’s distinctive movement language. This work features a powerful live score performed by an ensemble of musicians\, continuing CLD’s longstanding commitment to collaboration between dance and live music. \nEvent Details:\nDates: Wednesday June 10th and Thursday June 11th\nTime: 7:30 PM (approximately 80 minutes\, no intermission)\nLocation: The DiMenna Center for Classical Music – Mary Flagler Cary Hall\n450 W 37th St\, New York\, NY 10018 (between 9th & 10th Ave) \nPhoto by John Eng
URL:https://dimennacenter.org/event/cherylyn-lavagnino-dance-presents-the-winters-tale/
LOCATION:Mary Flagler Cary Hall
ATTACH;FMTTYPE=image/jpeg:https://dimennacenter.org/wp-content/uploads/2026/04/Lavagnino-Dance-2023-06-13-168-scaled.jpg
ORGANIZER;CN="Cherylyn Lavagnino Dance":MAILTO:admin@lavagninodance.com
END:VEVENT
BEGIN:VEVENT
DTSTART;TZID=America/New_York:20260611T193000
DTEND;TZID=America/New_York:20260611T193000
DTSTAMP:20260419T122337
CREATED:20260406T161507Z
LAST-MODIFIED:20260406T174832Z
UID:22863-1781206200-1781206200@dimennacenter.org
SUMMARY:Cherylyn Lavagnino Dance Presents: The Winter’s Tale
DESCRIPTION:A striking theater dance work charting a path from betrayal to reconciliation\, performed with live music. \nBased on one of William Shakespeare’s final plays\, ‘The Winter’s Tale’ is a work of theater dance created by choreographer Cherylyn Lavagnino in collaboration with composer Martin Bresnick. The piece explores themes of loyalty\, jealousy\, forgiveness\, and renewal\, blending expressive gesture with Lavagnino’s distinctive movement language. This work features a powerful live score performed by an ensemble of musicians\, continuing CLD’s longstanding commitment to collaboration between dance and live music. \nEvent Details:\nDates: Wednesday June 10th and Thursday June 11th\nTime: 7:30 PM (approximately 80 minutes\, no intermission)\nLocation: The DiMenna Center for Classical Music – Mary Flagler Cary Hall\n450 W 37th St\, New York\, NY 10018 (between 9th & 10th Ave) \nPhoto by John Eng
URL:https://dimennacenter.org/event/cherylyn-lavagnino-dance-presents-the-winters-tale-2/
LOCATION:Mary Flagler Cary Hall
ATTACH;FMTTYPE=image/jpeg:https://dimennacenter.org/wp-content/uploads/2026/04/Lavagnino-Dance-2023-06-13-168-scaled.jpg
ORGANIZER;CN="Cherylyn Lavagnino Dance":MAILTO:admin@lavagninodance.com
END:VEVENT
END:VCALENDAR